BEGIN:VCALENDAR
VERSION:2.0
PRODID:-//www.judysleisuretoursinc.com//NONSGML kigkonsult.se iCalcreator 2
 .30.10//
CALSCALE:GREGORIAN
METHOD:PUBLISH
UID:fbe2ec0a-ddd6-49ef-b6ab-4280efa1cc1d
X-WR-CALDESC:
X-WR-RELCALID:abe2d65f395acda72a8fbbfefac584d6
X-WR-TIMEZONE:America/Chicago
BEGIN:VTIMEZONE
TZID:America/Chicago
BEGIN:STANDARD
TZNAME:CST
DTSTART:20241103T020000
TZOFFSETFROM:-0500
TZOFFSETTO:-0600
RDATE:20251102T020000
RDATE:20261101T020000
END:STANDARD
BEGIN:DAYLIGHT
TZNAME:CDT
DTSTART:20250309T020000
TZOFFSETFROM:-0600
TZOFFSETTO:-0500
RDATE:20260308T020000
RDATE:20270314T020000
END:DAYLIGHT
END:VTIMEZONE
BEGIN:VEVENT
UID:7483377d-484a-4db4-8cc5-65f2b6f90562
DTSTAMP:20260420T132357Z
DESCRIPTION:
DTSTART;TZID=America/Chicago:20250923T050000
DTEND;TZID=America/Chicago:20250926T050001
LOCATION:
SUMMARY:DOOR COUNTY/W WASHINGTON ISLAND
END:VEVENT
END:VCALENDAR
