BEGIN:VCALENDAR
VERSION:2.0
PRODID:-//www.judysleisuretoursinc.com//NONSGML kigkonsult.se iCalcreator 2
 .30.10//
CALSCALE:GREGORIAN
METHOD:PUBLISH
UID:2121550d-a657-49bf-869a-b09474165e31
X-WR-CALDESC:
X-WR-RELCALID:7338201933cb7136f872eb2ff01ca2ed
X-WR-TIMEZONE:America/Chicago
BEGIN:VTIMEZONE
TZID:America/Chicago
BEGIN:STANDARD
TZNAME:CST
DTSTART:20241103T020000
TZOFFSETFROM:-0500
TZOFFSETTO:-0600
RDATE:20251102T020000
RDATE:20261101T020000
END:STANDARD
BEGIN:DAYLIGHT
TZNAME:CDT
DTSTART:20250309T020000
TZOFFSETFROM:-0600
TZOFFSETTO:-0500
RDATE:20260308T020000
RDATE:20270314T020000
END:DAYLIGHT
END:VTIMEZONE
BEGIN:VEVENT
UID:02c1ac5f-b2f4-4334-9d76-5cb01bf614f5
DTSTAMP:20260420T115702Z
DESCRIPTION:
DTSTART;TZID=America/Chicago:20250927T050000
DTEND;TZID=America/Chicago:20251012T050001
LOCATION:
SUMMARY:NEW ENGLAND W/CAPE COD
END:VEVENT
END:VCALENDAR
