BEGIN:VCALENDAR
VERSION:2.0
PRODID:-//www.judysleisuretoursinc.com//NONSGML kigkonsult.se iCalcreator 2
 .30.10//
CALSCALE:GREGORIAN
METHOD:PUBLISH
UID:42629c49-aa1f-4b88-8772-1a4e16fbbb90
X-WR-CALDESC:
X-WR-RELCALID:24dd7807ef02de78fca1f8b7b344a4ec
X-WR-TIMEZONE:America/Chicago
BEGIN:VTIMEZONE
TZID:America/Chicago
BEGIN:STANDARD
TZNAME:CST
DTSTART:20241103T020000
TZOFFSETFROM:-0500
TZOFFSETTO:-0600
RDATE:20251102T020000
RDATE:20261101T020000
END:STANDARD
BEGIN:DAYLIGHT
TZNAME:CDT
DTSTART:20250309T020000
TZOFFSETFROM:-0600
TZOFFSETTO:-0500
RDATE:20260308T020000
RDATE:20270314T020000
END:DAYLIGHT
END:VTIMEZONE
BEGIN:VEVENT
UID:78d886d4-cf55-4953-b59e-f41a9c302fd5
DTSTAMP:20260420T115620Z
DESCRIPTION:
DTSTART;TZID=America/Chicago:20251006T050000
DTEND;TZID=America/Chicago:20251016T050001
LOCATION:
SUMMARY:GREAT SMOKY MOUNTAINS W/NASHVILLE\, MEMPHIS AND BRANSON
END:VEVENT
END:VCALENDAR
