BEGIN:VCALENDAR
VERSION:2.0
PRODID:-//www.judysleisuretoursinc.com//NONSGML kigkonsult.se iCalcreator 2
 .30.10//
CALSCALE:GREGORIAN
METHOD:PUBLISH
UID:e76a70ce-aa9c-4732-ad10-2d7d39e38d56
X-WR-CALDESC:
X-WR-RELCALID:08cfdfea7e33949110519376fa6c6617
X-WR-TIMEZONE:America/Chicago
BEGIN:VTIMEZONE
TZID:America/Chicago
BEGIN:STANDARD
TZNAME:CST
DTSTART:20251102T020000
TZOFFSETFROM:-0500
TZOFFSETTO:-0600
RDATE:20261101T020000
END:STANDARD
BEGIN:DAYLIGHT
TZNAME:CDT
DTSTART:20250309T020000
TZOFFSETFROM:-0600
TZOFFSETTO:-0500
RDATE:20260308T020000
RDATE:20270314T020000
END:DAYLIGHT
END:VTIMEZONE
BEGIN:VEVENT
UID:c5408d6c-be5c-4f20-85ab-c6e8b5751fd9
DTSTAMP:20260420T095126Z
DESCRIPTION:
DTSTART;TZID=America/Chicago:20251117T050000
DTEND;TZID=America/Chicago:20251122T050001
LOCATION:
SUMMARY:BRANSON CHRISTMAS
END:VEVENT
END:VCALENDAR
