BEGIN:VCALENDAR
VERSION:2.0
PRODID:-//www.judysleisuretoursinc.com//NONSGML kigkonsult.se iCalcreator 2
 .30.10//
CALSCALE:GREGORIAN
METHOD:PUBLISH
UID:3aa0d649-ee50-4be8-aaeb-bfef090b5d3b
X-WR-CALDESC:
X-WR-RELCALID:236f88f07a0ab96b5e545e6b0e3e2635
X-WR-TIMEZONE:America/Chicago
BEGIN:VTIMEZONE
TZID:America/Chicago
BEGIN:STANDARD
TZNAME:CST
DTSTART:20251102T020000
TZOFFSETFROM:-0500
TZOFFSETTO:-0600
RDATE:20261101T020000
END:STANDARD
BEGIN:DAYLIGHT
TZNAME:CDT
DTSTART:20260308T020000
TZOFFSETFROM:-0600
TZOFFSETTO:-0500
RDATE:20270314T020000
END:DAYLIGHT
END:VTIMEZONE
BEGIN:VEVENT
UID:d3b60dd8-aebc-48ed-b097-c8305c4e0e02
DTSTAMP:20260423T101603Z
DESCRIPTION:
DTSTART;TZID=America/Chicago:20260414T050000
DTEND;TZID=America/Chicago:20260415T050001
LOCATION:
SUMMARY:Spring Theatre
END:VEVENT
END:VCALENDAR
