BEGIN:VCALENDAR
VERSION:2.0
PRODID:-//www.judysleisuretoursinc.com//NONSGML kigkonsult.se iCalcreator 2
 .30.10//
CALSCALE:GREGORIAN
METHOD:PUBLISH
UID:541ac0bb-b67d-4a49-a1eb-9773ef28dc30
X-WR-CALDESC:
X-WR-RELCALID:0e90ff883a7bb6830f9e5ecac3948a02
X-WR-TIMEZONE:America/Chicago
BEGIN:VTIMEZONE
TZID:America/Chicago
BEGIN:STANDARD
TZNAME:CST
DTSTART:20251102T020000
TZOFFSETFROM:-0500
TZOFFSETTO:-0600
RDATE:20261101T020000
RDATE:20271107T020000
END:STANDARD
BEGIN:DAYLIGHT
TZNAME:CDT
DTSTART:20260308T020000
TZOFFSETFROM:-0600
TZOFFSETTO:-0500
RDATE:20270314T020000
END:DAYLIGHT
END:VTIMEZONE
BEGIN:VEVENT
UID:0e2adae7-1a78-4bca-a830-cdd34abe812f
DTSTAMP:20260420T075037Z
DESCRIPTION:
DTSTART;TZID=America/Chicago:20260704T050000
DTEND;TZID=America/Chicago:20260713T050001
LOCATION:
SUMMARY:Canadian Rockies
END:VEVENT
END:VCALENDAR
