BEGIN:VCALENDAR
VERSION:2.0
PRODID:-//www.judysleisuretoursinc.com//NONSGML kigkonsult.se iCalcreator 2
 .30.10//
CALSCALE:GREGORIAN
METHOD:PUBLISH
UID:e62f48eb-6741-422a-a18a-62e7e89a152a
X-WR-CALDESC:
X-WR-RELCALID:07c1db19714bc20b4e4a987c67213aed
X-WR-TIMEZONE:America/Chicago
BEGIN:VTIMEZONE
TZID:America/Chicago
BEGIN:STANDARD
TZNAME:CST
DTSTART:20251102T020000
TZOFFSETFROM:-0500
TZOFFSETTO:-0600
RDATE:20261101T020000
RDATE:20271107T020000
END:STANDARD
BEGIN:DAYLIGHT
TZNAME:CDT
DTSTART:20260308T020000
TZOFFSETFROM:-0600
TZOFFSETTO:-0500
RDATE:20270314T020000
END:DAYLIGHT
END:VTIMEZONE
BEGIN:VEVENT
UID:bf5fc040-0399-43f6-91b7-3b8b45fe4299
DTSTAMP:20260420T080702Z
DESCRIPTION:
DTSTART;TZID=America/Chicago:20260716T050000
DTEND;TZID=America/Chicago:20260723T050001
LOCATION:
SUMMARY:Mount Rainer and Olympic National Parks
END:VEVENT
END:VCALENDAR
