BEGIN:VCALENDAR
VERSION:2.0
PRODID:-//www.judysleisuretoursinc.com//NONSGML kigkonsult.se iCalcreator 2
 .30.10//
CALSCALE:GREGORIAN
METHOD:PUBLISH
UID:06b135c4-88d7-4e5f-94ec-e6fc2403e448
X-WR-CALDESC:
X-WR-RELCALID:08cfc39be5fe846bbb73558eefefe2fd
X-WR-TIMEZONE:America/Chicago
BEGIN:VTIMEZONE
TZID:America/Chicago
BEGIN:STANDARD
TZNAME:CST
DTSTART:20251102T020000
TZOFFSETFROM:-0500
TZOFFSETTO:-0600
RDATE:20261101T020000
RDATE:20271107T020000
END:STANDARD
BEGIN:DAYLIGHT
TZNAME:CDT
DTSTART:20260308T020000
TZOFFSETFROM:-0600
TZOFFSETTO:-0500
RDATE:20270314T020000
END:DAYLIGHT
END:VTIMEZONE
BEGIN:VEVENT
UID:5182d212-fb10-41ed-bec9-b92d641dee0e
DTSTAMP:20260420T101105Z
DESCRIPTION:
DTSTART;TZID=America/Chicago:20260902T050000
DTEND;TZID=America/Chicago:20260911T050001
LOCATION:
SUMMARY:Best of Scandinavia
END:VEVENT
END:VCALENDAR
