BEGIN:VCALENDAR
VERSION:2.0
PRODID:-//www.judysleisuretoursinc.com//NONSGML kigkonsult.se iCalcreator 2
 .30.10//
CALSCALE:GREGORIAN
METHOD:PUBLISH
UID:7dca300f-637d-4429-bc4e-771f009f1226
X-WR-CALDESC:
X-WR-RELCALID:a8c98f4d20b019f6f2387179f11781b8
X-WR-TIMEZONE:America/Chicago
BEGIN:VTIMEZONE
TZID:America/Chicago
BEGIN:STANDARD
TZNAME:CST
DTSTART:20251102T020000
TZOFFSETFROM:-0500
TZOFFSETTO:-0600
RDATE:20261101T020000
RDATE:20271107T020000
END:STANDARD
BEGIN:DAYLIGHT
TZNAME:CDT
DTSTART:20260308T020000
TZOFFSETFROM:-0600
TZOFFSETTO:-0500
RDATE:20270314T020000
RDATE:20280312T020000
END:DAYLIGHT
END:VTIMEZONE
BEGIN:VEVENT
UID:7e6525f1-0e22-4231-911f-1a0a8791c89a
DTSTAMP:20260420T101536Z
DESCRIPTION:
DTSTART;TZID=America/Chicago:20260922T050000
DTEND;TZID=America/Chicago:20260925T050001
LOCATION:
SUMMARY:Door County/ Washington Island
END:VEVENT
END:VCALENDAR
