BEGIN:VCALENDAR
VERSION:2.0
PRODID:-//www.judysleisuretoursinc.com//NONSGML kigkonsult.se iCalcreator 2
 .30.10//
CALSCALE:GREGORIAN
METHOD:PUBLISH
UID:0504b4a4-4d09-4948-ac22-05817ca3a477
X-WR-CALDESC:
X-WR-RELCALID:05283913fe71b8d4c32a47f77f14c091
X-WR-TIMEZONE:America/Chicago
BEGIN:VTIMEZONE
TZID:America/Chicago
BEGIN:STANDARD
TZNAME:CST
DTSTART:20251102T020000
TZOFFSETFROM:-0500
TZOFFSETTO:-0600
RDATE:20261101T020000
RDATE:20271107T020000
END:STANDARD
BEGIN:DAYLIGHT
TZNAME:CDT
DTSTART:20260308T020000
TZOFFSETFROM:-0600
TZOFFSETTO:-0500
RDATE:20270314T020000
RDATE:20280312T020000
END:DAYLIGHT
END:VTIMEZONE
BEGIN:VEVENT
UID:5e221ba7-cbb9-4910-a598-a5e169298824
DTSTAMP:20260420T100544Z
DESCRIPTION:
DTSTART;TZID=America/Chicago:20260927T050000
DTEND;TZID=America/Chicago:20261002T050001
LOCATION:
SUMMARY:Sedona's Red Rock and Grand Canyon
END:VEVENT
END:VCALENDAR
