BEGIN:VCALENDAR
VERSION:2.0
PRODID:-//www.judysleisuretoursinc.com//NONSGML kigkonsult.se iCalcreator 2
 .30.10//
CALSCALE:GREGORIAN
METHOD:PUBLISH
UID:8ab5b378-273c-4ffd-a5c6-ef95463dc100
X-WR-CALDESC:
X-WR-RELCALID:dc27ffc785010b687a5a3fb7f93f9203
X-WR-TIMEZONE:America/Chicago
BEGIN:VTIMEZONE
TZID:America/Chicago
BEGIN:STANDARD
TZNAME:CST
DTSTART:20261101T020000
TZOFFSETFROM:-0500
TZOFFSETTO:-0600
RDATE:20271107T020000
END:STANDARD
BEGIN:DAYLIGHT
TZNAME:CDT
DTSTART:20260308T020000
TZOFFSETFROM:-0600
TZOFFSETTO:-0500
RDATE:20270314T020000
RDATE:20280312T020000
END:DAYLIGHT
END:VTIMEZONE
BEGIN:VEVENT
UID:66b4fc54-323e-4cba-b5c1-5926a8e52d88
DTSTAMP:20260420T130326Z
DESCRIPTION:
DTSTART;TZID=America/Chicago:20261109T050000
DTEND;TZID=America/Chicago:20261114T050001
LOCATION:
SUMMARY:Branson
END:VEVENT
END:VCALENDAR
