BEGIN:VCALENDAR
VERSION:2.0
PRODID:-//www.judysleisuretoursinc.com//NONSGML kigkonsult.se iCalcreator 2
 .30.10//
CALSCALE:GREGORIAN
METHOD:PUBLISH
UID:f9093b89-16f3-45da-ba89-130bc5b09494
X-WR-CALDESC:
X-WR-RELCALID:eac204d965c755addf23ad6250df36a1
X-WR-TIMEZONE:America/Chicago
BEGIN:VTIMEZONE
TZID:America/Chicago
BEGIN:STANDARD
TZNAME:CST
DTSTART:20261101T020000
TZOFFSETFROM:-0500
TZOFFSETTO:-0600
RDATE:20271107T020000
END:STANDARD
BEGIN:DAYLIGHT
TZNAME:CDT
DTSTART:20260308T020000
TZOFFSETFROM:-0600
TZOFFSETTO:-0500
RDATE:20270314T020000
RDATE:20280312T020000
END:DAYLIGHT
END:VTIMEZONE
BEGIN:VEVENT
UID:2351b56a-eb08-454f-baf8-be5bc9a85ad1
DTSTAMP:20260420T141910Z
DESCRIPTION:
DTSTART;TZID=America/Chicago:20261204T050000
DTEND;TZID=America/Chicago:20261207T050001
LOCATION:
SUMMARY:New York
END:VEVENT
END:VCALENDAR
