BEGIN:VCALENDAR
VERSION:2.0
PRODID:-//www.judysleisuretoursinc.com//NONSGML kigkonsult.se iCalcreator 2
 .30.10//
CALSCALE:GREGORIAN
METHOD:PUBLISH
UID:9922aa37-eec5-4811-aa75-08b516a6af04
X-WR-CALDESC:
X-WR-RELCALID:5cd12e95c0eef4f3a7fef3df02c15c37
X-WR-TIMEZONE:America/Chicago
BEGIN:VTIMEZONE
TZID:America/Chicago
BEGIN:STANDARD
TZNAME:CST
DTSTART:20251102T020000
TZOFFSETFROM:-0500
TZOFFSETTO:-0600
RDATE:20261101T020000
END:STANDARD
BEGIN:DAYLIGHT
TZNAME:CDT
DTSTART:20250309T020000
TZOFFSETFROM:-0600
TZOFFSETTO:-0500
RDATE:20260308T020000
RDATE:20270314T020000
END:DAYLIGHT
END:VTIMEZONE
BEGIN:VEVENT
UID:ce975158-c900-4e13-88d0-191ed78e17ad
DTSTAMP:20260420T081119Z
DESCRIPTION:
DTSTART;TZID=America/Chicago:20251128T143000
DTEND;TZID=America/Chicago:20251205T153000
LOCATION:
SUMMARY:NASHVILLE CHRISTMAS
END:VEVENT
END:VCALENDAR
