BEGIN:VCALENDAR
VERSION:2.0
PRODID:-//www.judysleisuretoursinc.com//NONSGML kigkonsult.se iCalcreator 2
 .30.10//
CALSCALE:GREGORIAN
METHOD:PUBLISH
UID:1534d46b-5b28-4880-9ccd-2b775130e828
X-WR-CALDESC:
X-WR-RELCALID:1e842e4550e43718fb7e34cdc255d349
X-WR-TIMEZONE:America/Chicago
BEGIN:VTIMEZONE
TZID:America/Chicago
BEGIN:STANDARD
TZNAME:CST
DTSTART:20251102T020000
TZOFFSETFROM:-0500
TZOFFSETTO:-0600
RDATE:20261101T020000
END:STANDARD
BEGIN:DAYLIGHT
TZNAME:CDT
DTSTART:20250309T020000
TZOFFSETFROM:-0600
TZOFFSETTO:-0500
RDATE:20260308T020000
RDATE:20270314T020000
END:DAYLIGHT
END:VTIMEZONE
BEGIN:VEVENT
UID:7a7b8bed-a03a-4047-a76f-0a4e9c4c2981
DTSTAMP:20260420T084156Z
DESCRIPTION:
DTSTART;TZID=America/Chicago:20251204T050000
DTEND;TZID=America/Chicago:20251208T050001
LOCATION:
SUMMARY:NEW YORK
END:VEVENT
END:VCALENDAR
