BEGIN:VCALENDAR
VERSION:2.0
PRODID:-//www.judysleisuretoursinc.com//NONSGML kigkonsult.se iCalcreator 2
 .30.10//
CALSCALE:GREGORIAN
METHOD:PUBLISH
UID:d379357c-b0f2-4c1c-b978-033b52b03d7c
X-WR-CALDESC:
X-WR-RELCALID:d3dbeb161434e5d6e31f9a52008efefc
X-WR-TIMEZONE:America/Chicago
BEGIN:VTIMEZONE
TZID:America/Chicago
BEGIN:STANDARD
TZNAME:CST
DTSTART:20251102T020000
TZOFFSETFROM:-0500
TZOFFSETTO:-0600
RDATE:20261101T020000
END:STANDARD
BEGIN:DAYLIGHT
TZNAME:CDT
DTSTART:20250309T020000
TZOFFSETFROM:-0600
TZOFFSETTO:-0500
RDATE:20260308T020000
RDATE:20270314T020000
END:DAYLIGHT
END:VTIMEZONE
BEGIN:VEVENT
UID:a8681efe-3d2a-4b17-bf2a-b3cb2f986ae7
DTSTAMP:20260420T053244Z
DESCRIPTION:
DTSTART;TZID=America/Chicago:20260131T050000
DTEND;TZID=America/Chicago:20260215T050001
LOCATION:
SUMMARY:Panama Cabnal Cruise
END:VEVENT
END:VCALENDAR
