BEGIN:VCALENDAR
VERSION:2.0
PRODID:-//www.judysleisuretoursinc.com//NONSGML kigkonsult.se iCalcreator 2
 .30.10//
CALSCALE:GREGORIAN
METHOD:PUBLISH
UID:cb8c52c8-0da2-4ae0-98ac-4ce12c14623d
X-WR-CALDESC:
X-WR-RELCALID:9e482b814d563643076e5b59e7b2d779
X-WR-TIMEZONE:America/Chicago
BEGIN:VTIMEZONE
TZID:America/Chicago
BEGIN:STANDARD
TZNAME:CST
DTSTART:20251102T020000
TZOFFSETFROM:-0500
TZOFFSETTO:-0600
RDATE:20261101T020000
END:STANDARD
BEGIN:DAYLIGHT
TZNAME:CDT
DTSTART:20260308T020000
TZOFFSETFROM:-0600
TZOFFSETTO:-0500
RDATE:20270314T020000
END:DAYLIGHT
END:VTIMEZONE
BEGIN:VEVENT
UID:904f782a-1b2a-45de-aff8-5bddc40bff1d
DTSTAMP:20260420T035629Z
DESCRIPTION:
DTSTART;TZID=America/Chicago:20260429T050000
DTEND;TZID=America/Chicago:20260509T050001
LOCATION:
SUMMARY:Portugal and the Duro River Cruise
END:VEVENT
END:VCALENDAR
