BEGIN:VCALENDAR
VERSION:2.0
PRODID:-//www.judysleisuretoursinc.com//NONSGML kigkonsult.se iCalcreator 2
 .30.10//
CALSCALE:GREGORIAN
METHOD:PUBLISH
UID:d4525ff5-4955-41d6-a9a9-894e7ed7a038
X-WR-CALDESC:
X-WR-RELCALID:c979bc90ca1f51f299cca2212a3cbef6
X-WR-TIMEZONE:America/Chicago
BEGIN:VTIMEZONE
TZID:America/Chicago
BEGIN:STANDARD
TZNAME:CST
DTSTART:20251102T020000
TZOFFSETFROM:-0500
TZOFFSETTO:-0600
RDATE:20261101T020000
RDATE:20271107T020000
END:STANDARD
BEGIN:DAYLIGHT
TZNAME:CDT
DTSTART:20260308T020000
TZOFFSETFROM:-0600
TZOFFSETTO:-0500
RDATE:20270314T020000
END:DAYLIGHT
END:VTIMEZONE
BEGIN:VEVENT
UID:8665086d-77bb-492a-9195-231851601f1d
DTSTAMP:20260420T052004Z
DESCRIPTION:
DTSTART;TZID=America/Chicago:20260609T050000
DTEND;TZID=America/Chicago:20260616T050001
LOCATION:
SUMMARY:Niagara Falls/ Mackinac Island
END:VEVENT
END:VCALENDAR
