BEGIN:VCALENDAR
VERSION:2.0
PRODID:-//www.judysleisuretoursinc.com//NONSGML kigkonsult.se iCalcreator 2
 .30.10//
CALSCALE:GREGORIAN
METHOD:PUBLISH
UID:614510de-7cb2-479f-a643-318b20ca8321
X-WR-CALDESC:
X-WR-RELCALID:65e009f65fde88d36703d15279900939
X-WR-TIMEZONE:America/Chicago
BEGIN:VTIMEZONE
TZID:America/Chicago
BEGIN:STANDARD
TZNAME:CST
DTSTART:20251102T020000
TZOFFSETFROM:-0500
TZOFFSETTO:-0600
RDATE:20261101T020000
RDATE:20271107T020000
END:STANDARD
BEGIN:DAYLIGHT
TZNAME:CDT
DTSTART:20260308T020000
TZOFFSETFROM:-0600
TZOFFSETTO:-0500
RDATE:20270314T020000
END:DAYLIGHT
END:VTIMEZONE
BEGIN:VEVENT
UID:e0a1b5db-98f2-4d88-9331-eaf375efc704
DTSTAMP:20260420T063611Z
DESCRIPTION:
DTSTART;TZID=America/Chicago:20260711T050000
DTEND;TZID=America/Chicago:20260722T050001
LOCATION:
SUMMARY:Alaska Double Denali Yukon
END:VEVENT
END:VCALENDAR
