BEGIN:VCALENDAR
VERSION:2.0
PRODID:-//www.judysleisuretoursinc.com//NONSGML kigkonsult.se iCalcreator 2
 .30.10//
CALSCALE:GREGORIAN
METHOD:PUBLISH
UID:5598b881-3030-4f08-a7fb-4a87962016fe
X-WR-CALDESC:
X-WR-RELCALID:384665e7ce4a66719d3171b204ef96d2
X-WR-TIMEZONE:America/Chicago
BEGIN:VTIMEZONE
TZID:America/Chicago
BEGIN:STANDARD
TZNAME:CST
DTSTART:20251102T020000
TZOFFSETFROM:-0500
TZOFFSETTO:-0600
RDATE:20261101T020000
RDATE:20271107T020000
END:STANDARD
BEGIN:DAYLIGHT
TZNAME:CDT
DTSTART:20260308T020000
TZOFFSETFROM:-0600
TZOFFSETTO:-0500
RDATE:20270314T020000
END:DAYLIGHT
END:VTIMEZONE
BEGIN:VEVENT
UID:f41f4055-4d0c-4dd4-9b82-de1b5928a0cf
DTSTAMP:20260420T063119Z
DESCRIPTION:
DTSTART;TZID=America/Chicago:20260712T050000
DTEND;TZID=America/Chicago:20260719T050001
LOCATION:
SUMMARY:7 Day Glacier Discovery Northbound Cruise
END:VEVENT
END:VCALENDAR
