BEGIN:VCALENDAR
VERSION:2.0
PRODID:-//www.judysleisuretoursinc.com//NONSGML kigkonsult.se iCalcreator 2
 .30.10//
CALSCALE:GREGORIAN
METHOD:PUBLISH
UID:ff9c96fa-eb2e-4acd-900e-0e1838f671ac
X-WR-CALDESC:
X-WR-RELCALID:b014f3f4a396723a342a312a0e40566d
X-WR-TIMEZONE:America/Chicago
BEGIN:VTIMEZONE
TZID:America/Chicago
BEGIN:STANDARD
TZNAME:CST
DTSTART:20251102T020000
TZOFFSETFROM:-0500
TZOFFSETTO:-0600
RDATE:20261101T020000
RDATE:20271107T020000
END:STANDARD
BEGIN:DAYLIGHT
TZNAME:CDT
DTSTART:20260308T020000
TZOFFSETFROM:-0600
TZOFFSETTO:-0500
RDATE:20270314T020000
END:DAYLIGHT
END:VTIMEZONE
BEGIN:VEVENT
UID:ec64f216-829e-4e47-99e3-fd1073a19f05
DTSTAMP:20260420T084836Z
DESCRIPTION:
DTSTART;TZID=America/Chicago:20260901T050000
DTEND;TZID=America/Chicago:20260914T050001
LOCATION:
SUMMARY:Canyon Country with National Parks
END:VEVENT
END:VCALENDAR
