BEGIN:VCALENDAR
VERSION:2.0
PRODID:-//www.judysleisuretoursinc.com//NONSGML kigkonsult.se iCalcreator 2
 .30.10//
CALSCALE:GREGORIAN
METHOD:PUBLISH
UID:ac13d8d1-c85b-4006-8fc1-27eda866d63b
X-WR-CALDESC:
X-WR-RELCALID:890c083b3d3ad71100d3a9532120c820
X-WR-TIMEZONE:America/Chicago
BEGIN:VTIMEZONE
TZID:America/Chicago
BEGIN:STANDARD
TZNAME:CST
DTSTART:20251102T020000
TZOFFSETFROM:-0500
TZOFFSETTO:-0600
RDATE:20261101T020000
RDATE:20271107T020000
END:STANDARD
BEGIN:DAYLIGHT
TZNAME:CDT
DTSTART:20260308T020000
TZOFFSETFROM:-0600
TZOFFSETTO:-0500
RDATE:20270314T020000
RDATE:20280312T020000
END:DAYLIGHT
END:VTIMEZONE
BEGIN:VEVENT
UID:16a4b70a-dc3b-4aaa-843d-673bc417aebd
DTSTAMP:20260420T085628Z
DESCRIPTION:
DTSTART;TZID=America/Chicago:20260926T050000
DTEND;TZID=America/Chicago:20261008T050001
LOCATION:
SUMMARY:Colonial New England- Montreal
END:VEVENT
END:VCALENDAR
