BEGIN:VCALENDAR
VERSION:2.0
PRODID:-//www.judysleisuretoursinc.com//NONSGML kigkonsult.se iCalcreator 2
 .30.10//
CALSCALE:GREGORIAN
METHOD:PUBLISH
UID:b3c7ed09-1000-4cc0-9bad-4b61d80fc7ac
X-WR-CALDESC:
X-WR-RELCALID:920f0e079fbb9425351615bc55d016c5
X-WR-TIMEZONE:America/Chicago
BEGIN:VTIMEZONE
TZID:America/Chicago
BEGIN:STANDARD
TZNAME:CST
DTSTART:20251102T020000
TZOFFSETFROM:-0500
TZOFFSETTO:-0600
RDATE:20261101T020000
RDATE:20271107T020000
END:STANDARD
BEGIN:DAYLIGHT
TZNAME:CDT
DTSTART:20260308T020000
TZOFFSETFROM:-0600
TZOFFSETTO:-0500
RDATE:20270314T020000
RDATE:20280312T020000
END:DAYLIGHT
END:VTIMEZONE
BEGIN:VEVENT
UID:4c6048ba-94be-4330-a706-3664db6ced82
DTSTAMP:20260420T101358Z
DESCRIPTION:
DTSTART;TZID=America/Chicago:20260926T050000
DTEND;TZID=America/Chicago:20261011T050001
LOCATION:
SUMMARY:New England with Cape Cod
END:VEVENT
END:VCALENDAR
