BEGIN:VCALENDAR
VERSION:2.0
PRODID:-//www.judysleisuretoursinc.com//NONSGML kigkonsult.se iCalcreator 2
 .30.10//
CALSCALE:GREGORIAN
METHOD:PUBLISH
UID:468c7c97-6842-4c5c-8731-79f2b7b12ad1
X-WR-CALDESC:
X-WR-RELCALID:505a3cc691b9c1162c56dcafbbf61b18
X-WR-TIMEZONE:America/Chicago
BEGIN:VTIMEZONE
TZID:America/Chicago
BEGIN:STANDARD
TZNAME:CST
DTSTART:20251102T020000
TZOFFSETFROM:-0500
TZOFFSETTO:-0600
RDATE:20261101T020000
RDATE:20271107T020000
END:STANDARD
BEGIN:DAYLIGHT
TZNAME:CDT
DTSTART:20260308T020000
TZOFFSETFROM:-0600
TZOFFSETTO:-0500
RDATE:20270314T020000
RDATE:20280312T020000
END:DAYLIGHT
END:VTIMEZONE
BEGIN:VEVENT
UID:dbbc9d77-5ad4-405c-aed0-781c2bd8d0dc
DTSTAMP:20260420T100845Z
DESCRIPTION:
DTSTART;TZID=America/Chicago:20261012T050000
DTEND;TZID=America/Chicago:20261022T050001
LOCATION:
SUMMARY:Great Smoky Mountains W/ Nashville and Branson
END:VEVENT
END:VCALENDAR
