BEGIN:VCALENDAR
VERSION:2.0
PRODID:-//www.judysleisuretoursinc.com//NONSGML kigkonsult.se iCalcreator 2
 .30.10//
CALSCALE:GREGORIAN
METHOD:PUBLISH
UID:6a4854d3-bece-4525-a43d-43840787498f
X-WR-CALDESC:
X-WR-RELCALID:2eb53e71baec1cea4c61f906f3387e45
X-WR-TIMEZONE:America/Chicago
BEGIN:VTIMEZONE
TZID:America/Chicago
BEGIN:STANDARD
TZNAME:CST
DTSTART:20261101T020000
TZOFFSETFROM:-0500
TZOFFSETTO:-0600
RDATE:20271107T020000
END:STANDARD
BEGIN:DAYLIGHT
TZNAME:CDT
DTSTART:20260308T020000
TZOFFSETFROM:-0600
TZOFFSETTO:-0500
RDATE:20270314T020000
RDATE:20280312T020000
END:DAYLIGHT
END:VTIMEZONE
BEGIN:VEVENT
UID:a21c55e2-656a-43a3-9553-4d3873d44d01
DTSTAMP:20260420T115538Z
DESCRIPTION:
DTSTART;TZID=America/Chicago:20261116T050000
DTEND;TZID=America/Chicago:20261121T050001
LOCATION:
SUMMARY:Branson Christmas
END:VEVENT
END:VCALENDAR
